BEGIN:VCALENDAR
VERSION:2.0
PRODID:-//Library Market//iCal Export//EN
BEGIN:VEVENT
SUMMARY:Partnership to End Human Trafficking: Anti Human Trafficking Forum
UID:87948
DTSTAMP:20260425T235600Z
DTSTART:20260604T143000Z
DTEND:20260604T163000Z
LOCATION:DiMattia Building, 1 Public Library Plaza, Stamford, CT 06904, Un
 ited States
ROOM: Dudley N. Williams, Jr. Auditorium
DESCRIPTION:TBD
URL:https://www.fergusonlibrary.org/event/partnership-end-human-traffickin
 g-anti-human-trafficking-forum-87948
END:VEVENT
END:VCALENDAR
