BEGIN:VCALENDAR
VERSION:2.0
PRODID:-//Library Market//iCal Export//EN
BEGIN:VEVENT
SUMMARY:Quantum, Decoded
UID:87906
DTSTAMP:20260424T025400Z
DTSTART:20260601T200000Z
DTEND:20260601T220000Z
LOCATION:DiMattia Building, 1 Public Library Plaza, Stamford, CT 06904, Un
 ited States
ROOM: Dudley N. Williams, Jr. Auditorium
DESCRIPTION:Quantum computing will reshape medicine, cybersecurity, and AI
  — and almost no high schooler has touched it. Until now. In two hours, 
 dae brings Connecticut&#039;s first high school quantum program to you: no
  physics, no coding required. Just exclusive, hands-on, interactive explor
 ation of a field that&#039;s already arriving. PLEASE NOTE: while this ev
 ent is open to the public it is only open to high school students and we e
 ncourage pre-registration.Register at: mydae.org/daeZERO
URL:https://www.fergusonlibrary.org/event/quantum-decoded-87906
END:VEVENT
END:VCALENDAR
