BEGIN:VCALENDAR
VERSION:2.0
PRODID:-//Library Market//iCal Export//EN
BEGIN:VEVENT
SUMMARY:Out In Tech: Connecting Tech Across Intersections
UID:87847
DTSTAMP:20260424T025400Z
DTSTART:20260602T213000Z
DTEND:20260602T233000Z
LOCATION:DiMattia Building, 1 Public Library Plaza, Stamford, CT 06904, Un
 ited States
ROOM: Dudley N. Williams, Jr. Auditorium
DESCRIPTION:ForÂ CTÂ Tech Week, OutÂ In Tech presentsÂ &quot;Connecting Te
 ch Across Intersections&quot;.Â We&#039;re spotlighting tech across inters
 ections ofÂ industry - civic tech, ed tech,Â fintech, health/medtech,Â and
  more. We aim toÂ raise awareness andÂ giveÂ attendees access toÂ connect 
 with localÂ and national organizations.Â Learn howÂ your diverse backgroun
 ds areÂ valuableÂ andÂ haveÂ aÂ placeÂ inÂ tech.Â WhetherÂ earlyÂ career,Â
  established professional, orÂ executing a career pivot, you&#039;ll leave
  this event with connections and inspiration. OIT isÂ the world&#039;s lar
 gest non-profit community ofÂ LGBTQ+ tech leaders, creating opportunities 
 forÂ members toÂ advance their careers, grow their networks, and leverage 
 tech for social change.Â 
URL:https://www.fergusonlibrary.org/event/out-tech-connecting-tech-across-
 intersections-87847
END:VEVENT
END:VCALENDAR
