BEGIN:VCALENDAR
VERSION:2.0
PRODID:-//Library Market//iCal Export//EN
BEGIN:VEVENT
SUMMARY:LGBTQ+ Social Book Club
UID:87732
DTSTAMP:20260422T134300Z
DTSTART:20260509T190000Z
DTEND:20260509T200000Z
LOCATION:115 Vine Road, Stamford, CT 06905, United States
ROOM: Auditorium
DESCRIPTION:Discuss what books you are reading, make connections and enjoy
  a tasty treat. Those who identify as LGBTQIA+ as well as allies are welco
 me.Teens and adults.Registration appreciated.Presented in partnership with
  Stamford Pride.
URL:https://www.fergusonlibrary.org/event/lgbtq-social-book-club-87732
END:VEVENT
END:VCALENDAR
