BEGIN:VCALENDAR
VERSION:2.0
PRODID:-//Library Market//iCal Export//EN
BEGIN:VEVENT
SUMMARY:Teen Summer Volunteer Training
UID:87731
DTSTAMP:20260424T062900Z
DTSTART:20260611T200000Z
DTEND:20260611T213000Z
LOCATION:DiMattia Building, 1 Public Library Plaza, Stamford, CT 06904, Un
 ited States
ROOM: Dudley N. Williams, Jr. Auditorium
DESCRIPTION:Teen summer volunteering is back. Earn volunteer credit by hel
 ping children and teens join the Summer Learning Clubs, report their readi
 ng progress and receive incentives.One training session required to volunt
 eer. Stop by the library to pick up a required application.All volunteers 
 must be 12 or older by June 13.
URL:https://www.fergusonlibrary.org/event/teen-summer-volunteer-training-8
 7731
END:VEVENT
END:VCALENDAR
