BEGIN:VCALENDAR
VERSION:2.0
PRODID:-//Library Market//iCal Export//EN
BEGIN:VEVENT
SUMMARY:Youth Enrichment Program: Reaching Our Communities
UID:87687
DTSTAMP:20260420T234700Z
DTSTART:20260516T133000Z
DTEND:20260516T163000Z
LOCATION:Lathon Wider Community Center, 34 Woodland Avenue, Stamford, CT 0
 6902, United States
ROOM: South End ROOM HOLD
DESCRIPTION:A free six-week fourth annual enrichment program of workshops 
 focusing on life skills, mental health workshops and skill-building activi
 ties. This program will help participants grow and learn in fun and meanin
 gful ways. Participants who complete the program will receive a stipendBre
 akfast will be served.Ages 12 to 18.Deadline to sign up is May 2. Registe
 r here.Presented in partnership with Heart &amp; Purpose and Rene Soto Gal
 lery.
URL:https://www.fergusonlibrary.org/event/youth-enrichment-program-reachin
 g-our-communities-87687
END:VEVENT
END:VCALENDAR
