BEGIN:VCALENDAR
VERSION:2.0
PRODID:-//Library Market//iCal Export//EN
BEGIN:VEVENT
SUMMARY:Read to a Therapy Dog
UID:87568
DTSTAMP:20260422T135200Z
DTSTART:20260516T150000Z
DTEND:20260516T160000Z
LOCATION:115 Vine Road, Stamford, CT 06905, United States
ROOM: Story Circle
DESCRIPTION:Practice your reading skills by reading to a trained therapy d
 og.Bring a favorite book or pick one from the library to read to Zack, our
  beloved therapy dog.Ages 5 to 12. 
URL:https://www.fergusonlibrary.org/event/read-therapy-dog-87568
END:VEVENT
END:VCALENDAR
