BEGIN:VCALENDAR
VERSION:2.0
PRODID:-//Library Market//iCal Export//EN
BEGIN:VEVENT
SUMMARY:Create Button Art
UID:87546
DTSTAMP:20260422T134300Z
DTSTART:20260509T190000Z
DTEND:20260509T203000Z
LOCATION:1143 Hope Street, Stamford, CT 06907, United States
ROOM: Community Room
DESCRIPTION:Create a button art design on a cardstock background. Design i
 deas and supplies will be provided.Registration required.
URL:https://www.fergusonlibrary.org/event/adult-craft-button-art-87546
END:VEVENT
END:VCALENDAR
