BEGIN:VCALENDAR
VERSION:2.0
PRODID:-//Library Market//iCal Export//EN
BEGIN:VEVENT
SUMMARY:Computer Science Club
UID:86831
DTSTAMP:20260422T134300Z
DTSTART:20260517T180000Z
DTEND:20260517T193000Z
LOCATION:DiMattia Building, 1 Public Library Plaza, Stamford, CT 06904, Un
 ited States
ROOM: Third Floor Technology Center (w/ workstations)
DESCRIPTION:Learn the basics of coding and applications available to you f
 or your future success with Alisha, Savera and Sami, highly motivated stud
 ents ready to share, explore and learn about the computer science field.Ag
 es 12 and older.Registration required.
URL:https://www.fergusonlibrary.org/event/computer-science-club-workshop-8
 6831
END:VEVENT
END:VCALENDAR
