BEGIN:VCALENDAR
VERSION:2.0
PRODID:-//Library Market//iCal Export//EN
BEGIN:VEVENT
SUMMARY:Teen Podcast Club
UID:86248
DTSTAMP:20260422T134300Z
DTSTART:20260508T200000Z
DTEND:20260508T210000Z
LOCATION:DiMattia Building, 1 Public Library Plaza, Stamford, CT 06904, Un
 ited States
ROOM: Third Floor Rotary Room
DESCRIPTION:Do you have something to say? Talking Bookshelves, the Ferguso
 n Library&#039;s teen podcast, invites you to join the conversation and sh
 are your opinion.Grades 6 to 12.Registration appreciated.
URL:https://www.fergusonlibrary.org/event/teen-podcast-club-86248
END:VEVENT
END:VCALENDAR
